BEGIN:VCALENDAR
PRODID:-//Microsoft Corporation//Outlook MIMEDIR//EN
VERSION:2.0
METHOD:PUBLISH
BEGIN:VEVENT
DTSTART:20260504T173000
DTEND:20260504T183000
DESCRIPTION:
LOCATION:City Hall, Council Chambers
SUMMARY:Pre-Council Meeting
CATEGORIES:MEETING
END:VEVENT
END:VCALENDAR
